BEGIN:VCALENDAR
VERSION:2.0
PRODID:gruenenwiesbach.de
METHOD:PUBLISH
BEGIN:VTIMEZONE
TZID:Europe/Berlin
X-LIC-LOCATION:Europe/Berlin
BEGIN:DAYLIGHT
TZOFFSETFROM:+0100
TZOFFSETTO:+0200
TZNAME:CEST
DTSTART:19700329T020000
RRULE:FREQ=YEARLY;INTERVAL=1;BYDAY=-1SU;BYMONTH=3
END:DAYLIGHT
BEGIN:STANDARD
TZOFFSETFROM:+0200
TZOFFSETTO:+0100
TZNAME:CET
DTSTART:19701025T030000
RRULE:FREQ=YEARLY;INTERVAL=1;BYDAY=-1SU;BYMONTH=10
END:STANDARD
END:VTIMEZONE
BEGIN:VEVENT
UID:1f5f8d29806262a74267ee95fd59b5e2@gruenenwiesbach.de
URL;VALUE=URI:https://gruenenwiesbach.de/termine/haupt-und-finanzausschus
 s-2/
LOCATION:Rathaus, 61279 Grävenwiesbach, Sitzungszimmer "Wuenheim" (Erdge
 schoss),
SUMMARY:Haupt – und Finanzausschuss
DESCRIPTION;ALTREP="data:text/html,%3Cp%3ELink%20zur%20Tagesordnung%3A%20
 https%3A%2F%2Frim.ekom21.de%2Fgraevenwiesbach%2Ftops%2F%3F__%3DUGhVM0hpd2
 NXNFdFcExjZZcxB0oOXoxTEXdSB03LgAI%3C%2Fp%3E":Link zur Tagesordnung: https
 ://rim.ekom21.de/graevenwiesbach/tops/?__=UGhVM0hpd2NXNFdFcExjZZcxB0oOXox
 TEXdSB03LgAI
CLASS:PUBLIC
DTSTART;TZID=Europe/Berlin:20260507T193000
DTEND;TZID=Europe/Berlin:20260507T221600
DTSTAMP:20260420T222202
END:VEVENT
END:VCALENDAR