BEGIN:VCALENDAR
VERSION:2.0
PRODID:gruenenwiesbach.de
METHOD:PUBLISH
BEGIN:VTIMEZONE
TZID:Europe/Berlin
X-LIC-LOCATION:Europe/Berlin
BEGIN:DAYLIGHT
TZOFFSETFROM:+0100
TZOFFSETTO:+0200
TZNAME:CEST
DTSTART:19700329T020000
RRULE:FREQ=YEARLY;INTERVAL=1;BYDAY=-1SU;BYMONTH=3
END:DAYLIGHT
BEGIN:STANDARD
TZOFFSETFROM:+0200
TZOFFSETTO:+0100
TZNAME:CET
DTSTART:19701025T030000
RRULE:FREQ=YEARLY;INTERVAL=1;BYDAY=-1SU;BYMONTH=10
END:STANDARD
END:VTIMEZONE
BEGIN:VEVENT
UID:7a929d9f12aa156fb2000f3a7f240b5a@gruenenwiesbach.de
URL;VALUE=URI:https://gruenenwiesbach.de/termine/umwelt-land-und-forstwir
 tschaftsausschuss-5/
LOCATION:Rathaus, 61279 Grävenwiesbach, Sitzungszimmer "Wuenheim" (Erdge
 schoss),
SUMMARY:Umwelt-, Land- und Forstwirtschaftsausschuss
DESCRIPTION;ALTREP="data:text/html,%3Cp%3ELink%20zur%20Tagesordnung%3A%20
 https%3A%2F%2Frim.ekom21.de%2Fgraevenwiesbach%2Ftops%2F%3F__%3DUGhVM0hpd2
 NXNFdFcExjZbs3M3bXH73M14vaAwe9oDs%3C%2Fp%3E":Link zur Tagesordnung: https
 ://rim.ekom21.de/graevenwiesbach/tops/?__=UGhVM0hpd2NXNFdFcExjZbs3M3bXH73
 M14vaAwe9oDs
CLASS:PUBLIC
DTSTART;TZID=Europe/Berlin:20261020T193000
DTEND;TZID=Europe/Berlin:20261020T203000
DTSTAMP:20260421T024722
END:VEVENT
END:VCALENDAR